BEGIN:VCALENDAR
VERSION:2.0
PRODID:-//ZPND - Pose ta ruche artistique - ECPv6.15.13//NONSGML v1.0//EN
CALSCALE:GREGORIAN
METHOD:PUBLISH
X-ORIGINAL-URL:https://posetarucheartistique.fr
X-WR-CALDESC:Évènements pour ZPND - Pose ta ruche artistique
REFRESH-INTERVAL;VALUE=DURATION:PT1H
X-Robots-Tag:noindex
X-PUBLISHED-TTL:PT1H
BEGIN:VTIMEZONE
TZID:Europe/Paris
BEGIN:DAYLIGHT
TZOFFSETFROM:+0100
TZOFFSETTO:+0200
TZNAME:CEST
DTSTART:20240331T010000
END:DAYLIGHT
BEGIN:STANDARD
TZOFFSETFROM:+0200
TZOFFSETTO:+0100
TZNAME:CET
DTSTART:20241027T010000
END:STANDARD
BEGIN:DAYLIGHT
TZOFFSETFROM:+0100
TZOFFSETTO:+0200
TZNAME:CEST
DTSTART:20250330T010000
END:DAYLIGHT
BEGIN:STANDARD
TZOFFSETFROM:+0200
TZOFFSETTO:+0100
TZNAME:CET
DTSTART:20251026T010000
END:STANDARD
BEGIN:DAYLIGHT
TZOFFSETFROM:+0100
TZOFFSETTO:+0200
TZNAME:CEST
DTSTART:20260329T010000
END:DAYLIGHT
BEGIN:STANDARD
TZOFFSETFROM:+0200
TZOFFSETTO:+0100
TZNAME:CET
DTSTART:20261025T010000
END:STANDARD
END:VTIMEZONE
BEGIN:VEVENT
DTSTART;TZID=Europe/Paris:20251206T080000
DTEND;TZID=Europe/Paris:20251207T120000
DTSTAMP:20260419T172449
CREATED:20250815T153902Z
LAST-MODIFIED:20251022T155954Z
UID:29862-1765008000-1765108800@posetarucheartistique.fr
SUMMARY:Loto de Noël
DESCRIPTION:🎄 Grand Loto de Noël ! 🎄 \nVenez tenter votre chance dans une ambiance festive et chaleureuse lors du loto de noël de la Piscine d’en Face ! \n✨ De nombreux lots à gagner : \n🎁Télévision\, électroménager\, consoles de jeux\, jeux pour enfants\, bons d’achat… et bien plus encore !\nRetrouvez nos partenaires sur le site de la PDF \n🎅 Ambiance de Noël garantie pour petits et grands \n🧾 Cartons et jetons* en vente sur place\n*prévoyez les vôtres 😉 \n🍽 Bar et restauration sur place \n  \n⚠️ 200 places maximum
URL:https://posetarucheartistique.fr/event/loto-de-noel/
LOCATION:La Piscine d’en Face\, 14 rue Léo Lagrange\, Sainte-Geneviève-des-Bois\, 91700\, France
CATEGORIES:Loto
ATTACH;FMTTYPE=image/jpeg:https://posetarucheartistique.fr/wp-content/uploads/2025/03/9_20250812_221546_0003.jpg
ORGANIZER;CN="Ze Prod Next Door":MAILTO:posetaruche@gmail.com
END:VEVENT
END:VCALENDAR