BEGIN:VCALENDAR
VERSION:2.0
PRODID:-//ZPND - Pose ta ruche artistique - ECPv6.15.13//NONSGML v1.0//EN
CALSCALE:GREGORIAN
METHOD:PUBLISH
X-WR-CALNAME:ZPND - Pose ta ruche artistique
X-ORIGINAL-URL:https://posetarucheartistique.fr
X-WR-CALDESC:Évènements pour ZPND - Pose ta ruche artistique
REFRESH-INTERVAL;VALUE=DURATION:PT1H
X-Robots-Tag:noindex
X-PUBLISHED-TTL:PT1H
BEGIN:VTIMEZONE
TZID:Europe/Paris
BEGIN:DAYLIGHT
TZOFFSETFROM:+0100
TZOFFSETTO:+0200
TZNAME:CEST
DTSTART:20250330T010000
END:DAYLIGHT
BEGIN:STANDARD
TZOFFSETFROM:+0200
TZOFFSETTO:+0100
TZNAME:CET
DTSTART:20251026T010000
END:STANDARD
BEGIN:DAYLIGHT
TZOFFSETFROM:+0100
TZOFFSETTO:+0200
TZNAME:CEST
DTSTART:20260329T010000
END:DAYLIGHT
BEGIN:STANDARD
TZOFFSETFROM:+0200
TZOFFSETTO:+0100
TZNAME:CET
DTSTART:20261025T010000
END:STANDARD
BEGIN:DAYLIGHT
TZOFFSETFROM:+0100
TZOFFSETTO:+0200
TZNAME:CEST
DTSTART:20270328T010000
END:DAYLIGHT
BEGIN:STANDARD
TZOFFSETFROM:+0200
TZOFFSETTO:+0100
TZNAME:CET
DTSTART:20271031T010000
END:STANDARD
END:VTIMEZONE
BEGIN:VEVENT
DTSTART;TZID=Europe/Paris:20260314T200000
DTEND;TZID=Europe/Paris:20260315T120000
DTSTAMP:20260419T220409
CREATED:20260130T143342Z
LAST-MODIFIED:20260130T150426Z
UID:30032-1773518400-1773576000@posetarucheartistique.fr
SUMMARY:Loto caritatif
DESCRIPTION:Grand Loto Caritatif ! \nVenez tenter votre chance dans une ambiance festive et chaleureuse ! \n📅 Date : 14/03/26 \n🕕 Heure : 20h/00H \n📍 Lieu : La piscine-d’en-face \n⚠️ 200 places maximum \n✨ De nombreux lots à gagner : 🎁Télévision\, électroménager\, consoles de jeux\, jeux pour enfants\, bons d’achat… et bien plus encore ! \nAmbiance garantie pour petits et grands \n🧾 Cartons et jetons* en vente sur place *prévoyez les vôtres \n😉 🍽 Bar et restauration sur place
URL:https://posetarucheartistique.fr/event/loto-caritatif-2/
LOCATION:La Piscine d’en Face\, 14 rue Léo Lagrange\, Sainte-Geneviève-des-Bois\, 91700\, France
CATEGORIES:Loto
ATTACH;FMTTYPE=image/jpeg:https://posetarucheartistique.fr/wp-content/uploads/2026/01/COVER-EVENT-FB-ZPND-1920-×-1080-px-1.jpg
ORGANIZER;CN="Ze Prod Next Door":MAILTO:posetaruche@gmail.com
END:VEVENT
END:VCALENDAR