BEGIN:VCALENDAR
VERSION:2.0
PRODID:-//ZPND - Pose ta ruche artistique - ECPv6.15.13//NONSGML v1.0//EN
CALSCALE:GREGORIAN
METHOD:PUBLISH
X-ORIGINAL-URL:https://posetarucheartistique.fr
X-WR-CALDESC:Évènements pour ZPND - Pose ta ruche artistique
REFRESH-INTERVAL;VALUE=DURATION:PT1H
X-Robots-Tag:noindex
X-PUBLISHED-TTL:PT1H
BEGIN:VTIMEZONE
TZID:Europe/Paris
BEGIN:DAYLIGHT
TZOFFSETFROM:+0100
TZOFFSETTO:+0200
TZNAME:CEST
DTSTART:20250330T010000
END:DAYLIGHT
BEGIN:STANDARD
TZOFFSETFROM:+0200
TZOFFSETTO:+0100
TZNAME:CET
DTSTART:20251026T010000
END:STANDARD
BEGIN:DAYLIGHT
TZOFFSETFROM:+0100
TZOFFSETTO:+0200
TZNAME:CEST
DTSTART:20260329T010000
END:DAYLIGHT
BEGIN:STANDARD
TZOFFSETFROM:+0200
TZOFFSETTO:+0100
TZNAME:CET
DTSTART:20261025T010000
END:STANDARD
BEGIN:DAYLIGHT
TZOFFSETFROM:+0100
TZOFFSETTO:+0200
TZNAME:CEST
DTSTART:20270328T010000
END:DAYLIGHT
BEGIN:STANDARD
TZOFFSETFROM:+0200
TZOFFSETTO:+0100
TZNAME:CET
DTSTART:20271031T010000
END:STANDARD
END:VTIMEZONE
BEGIN:VEVENT
DTSTART;TZID=Europe/Paris:20260424T200000
DTEND;TZID=Europe/Paris:20260425T030000
DTSTAMP:20260420T013259
CREATED:20251229T200451Z
LAST-MODIFIED:20251229T200451Z
UID:29963-1777060800-1777086000@posetarucheartistique.fr
SUMMARY:Soirée dansante - Electro revival (année 80 à aujourd'hui)
DESCRIPTION:🎉 Soirée Dansante – Electro Revival 80’s à Aujourd’hui 🎶 \nViens vibrer au son des plus grands hits électro\, dance et pop\, des années 80 à aujourd’hui\, lors d’une soirée exceptionnelle organisée par Ze Prod Next Door ! Plonge dans une ambiance électrisante mêlant sons rétro\, beats modernes et tubes intemporels\, pour une nuit dansante immersive où les générations se retrouvent sur le même dancefloor. \nParticiper à une soirée Electro Revival\, c’est vivre un véritable voyage musical à travers plusieurs décennies. Des premières basses synthétiques des années 80 aux sons électro et dance actuels\, cette soirée célèbre l’évolution de la musique électronique et festive\, tout en conservant son énergie fédératrice et joyeuse. C’est l’occasion parfaite de revivre les classiques cultes\, de redécouvrir des morceaux mythiques et de se laisser surprendre par les hits plus récents qui font vibrer les clubs aujourd’hui. \nAvant\, les soirées étaient simples mais intenses : une piste de danse\, une musique puissante et des gens réunis pour partager le moment. Cette soirée Electro Revival 80’s à aujourd’hui recrée cet esprit : une ambiance chaleureuse\, festive et inclusive\, où l’on danse sans retenue jusqu’au bout de la nuit. Que tu sois amateur de sons rétro\, fan d’électro moderne ou simplement en quête d’une soirée conviviale et énergique\, tu trouveras ta place sur le dancefloor. \n📅 Date : Vendredi 24 avril 2026⏰ Horaire : De 20h à 3h00📍 Lieu : La Piscine d’en Face\, 14 rue Léo Lagrange\, 91700 Sainte-Geneviève-des-Bois (SGDB) \n🔊 Au programme : \n\n\nDancefloor XXL avec DJ Set Electro Revival (80’s à aujourd’hui) 💃🕺 \n\n\nZone Gaming 🎮 : retrogaming\, flippers\, arcades\, jeux géants \n\n\nBar & restauration sur place 🍹🍔 \n\n\nAmbiance fun\, électro et festive garantie ! \n\n\n💰 Tarifs : \n\n\n10€ / adulte \n\n\n8€ / enfant \n\n\n📩 Infos & Contact :📧 posetaruche@gmail.com📱 06 32 24 07 21📸 Instagram : @ze_prod_next_door📩 Facebook : @zpnd91 \n🕺 Viens danser et vibrer sur les meilleurs sons électro\, des années 80 à aujourd’hui !N’hésite pas à sortir une tenue stylée\, rétro-futuriste ou clubbing pour une immersion totale dans l’univers Electro Revival. \n⚠️ Veuillez noter que les places ne sont pas remboursables (échange possible). \nLien vers la piscine d’en face\nEn savoir plus sur nos soirées dansantes
URL:https://posetarucheartistique.fr/event/soiree-dansante-electro-revival-annee-80-a-aujourdhui/
LOCATION:La Piscine d’en Face\, 14 rue Léo Lagrange\, Sainte-Geneviève-des-Bois\, 91700\, France
CATEGORIES:Soirées dansantes
ATTACH;FMTTYPE=image/png:https://posetarucheartistique.fr/wp-content/uploads/2025/12/COVER-EVENT-FB-SOIREE-DANSANTE-1920-×-1080-px.png
ORGANIZER;CN="Ze Prod Next Door":MAILTO:posetaruche@gmail.com
END:VEVENT
END:VCALENDAR