BEGIN:VCALENDAR
VERSION:2.0
PRODID:-//ZPND - Pose ta ruche artistique - ECPv6.15.13//NONSGML v1.0//EN
CALSCALE:GREGORIAN
METHOD:PUBLISH
X-ORIGINAL-URL:https://posetarucheartistique.fr
X-WR-CALDESC:Évènements pour ZPND - Pose ta ruche artistique
REFRESH-INTERVAL;VALUE=DURATION:PT1H
X-Robots-Tag:noindex
X-PUBLISHED-TTL:PT1H
BEGIN:VTIMEZONE
TZID:Europe/Paris
BEGIN:DAYLIGHT
TZOFFSETFROM:+0100
TZOFFSETTO:+0200
TZNAME:CEST
DTSTART:20250330T010000
END:DAYLIGHT
BEGIN:STANDARD
TZOFFSETFROM:+0200
TZOFFSETTO:+0100
TZNAME:CET
DTSTART:20251026T010000
END:STANDARD
BEGIN:DAYLIGHT
TZOFFSETFROM:+0100
TZOFFSETTO:+0200
TZNAME:CEST
DTSTART:20260329T010000
END:DAYLIGHT
BEGIN:STANDARD
TZOFFSETFROM:+0200
TZOFFSETTO:+0100
TZNAME:CET
DTSTART:20261025T010000
END:STANDARD
BEGIN:DAYLIGHT
TZOFFSETFROM:+0100
TZOFFSETTO:+0200
TZNAME:CEST
DTSTART:20270328T010000
END:DAYLIGHT
BEGIN:STANDARD
TZOFFSETFROM:+0200
TZOFFSETTO:+0100
TZNAME:CET
DTSTART:20271031T010000
END:STANDARD
END:VTIMEZONE
BEGIN:VEVENT
DTSTART;TZID=Europe/Paris:20260228T200000
DTEND;TZID=Europe/Paris:20260301T030000
DTSTAMP:20260419T203450
CREATED:20251229T183946Z
LAST-MODIFIED:20260130T141315Z
UID:29956-1772308800-1772334000@posetarucheartistique.fr
SUMMARY:Soirée dansante Année 80 à nos jours
DESCRIPTION:🎉 Soirée Dansante – Années 80 à Aujourd’hui 🎶 \nViens vibrer au rythme des hits incontournables des années 80 à aujourd’hui lors d’une soirée dansante exceptionnelle organisée par Ze Prod Next Door ! Plonge dans une ambiance festive et nostalgique\, mêlant classiques intemporels\, tubes mythiques et sons actuels\, pour une nuit placée sous le signe de la danse\, de la bonne humeur et des souvenirs inoubliables. \nDu pop\, rock\, disco\, dance et R’n’B\, avec les plus grands artistes de tous les temps comme Madonna\, Michael Jackson\, Queen\, Britney Spears\, Daft Punk ou Dua Lipa\, prépare-toi à danser sur des classiques cultes et des hits modernes. Chaque morceau a été choisi pour te faire revivre les plus belles époques musicales tout en profitant des sons actuels qui font vibrer les soirées aujourd’hui. Laissez-vous emporter par les rythmes entraînants et les mélodies qui traversent les générations. \nCette soirée sera bien plus qu’une simple fête : c’est un véritable voyage musical\, où nostalgie et modernité se rencontrent sur le dancefloor. Que tu viennes entre amis\, en famille ou en solo\, l’ambiance conviviale et festive saura te faire passer des moments mémorables. Profite des instants de folie sur la piste\, des rencontres et des rires qui accompagneront chaque morceau joué par notre DJ set enflammé. \n📅 Date : Samedi 28 Février 2026\n⏰ Horaire : De 20h à 3h00\n📍 Lieu : La Piscine d’en Face\, 14 rue Léo Lagrange\, 91700 Sainte-Geneviève-des-Bois (SGDB) \n🔊 Au programme : \n\n\nDJ Set enflammé 💃🕺 \n\n\nZone Gaming 🎮 \n\n\nBar & restauration sur place 🍹🍔 \n\n\n💰 Tarifs : \n\n\n10€ / adulte \n\n\n8€ / enfant \n\n\nAmbiance fun et festive garantie pour une nuit entière de danse\, de musique et de souvenirs !Infos & Contact : 📧 posetaruche@gmail.com \nPLUS D’INFOS 
URL:https://posetarucheartistique.fr/event/soiree-dansante-annee-80-a-nos-jours-2/
LOCATION:La Piscine d’en Face\, 14 rue Léo Lagrange\, Sainte-Geneviève-des-Bois\, 91700\, France
CATEGORIES:Soirées dansantes
ATTACH;FMTTYPE=application/pdf:https://posetarucheartistique.fr/wp-content/uploads/2025/12/COVER-EVENT-FB-ZPND-1920-×-1080-px.pdf
ORGANIZER;CN="Ze Prod Next Door":MAILTO:posetaruche@gmail.com
END:VEVENT
BEGIN:VEVENT
DTSTART;TZID=Europe/Paris:20260314T200000
DTEND;TZID=Europe/Paris:20260315T120000
DTSTAMP:20260419T203450
CREATED:20260130T143342Z
LAST-MODIFIED:20260130T150426Z
UID:30032-1773518400-1773576000@posetarucheartistique.fr
SUMMARY:Loto caritatif
DESCRIPTION:Grand Loto Caritatif ! \nVenez tenter votre chance dans une ambiance festive et chaleureuse ! \n📅 Date : 14/03/26 \n🕕 Heure : 20h/00H \n📍 Lieu : La piscine-d’en-face \n⚠️ 200 places maximum \n✨ De nombreux lots à gagner : 🎁Télévision\, électroménager\, consoles de jeux\, jeux pour enfants\, bons d’achat… et bien plus encore ! \nAmbiance garantie pour petits et grands \n🧾 Cartons et jetons* en vente sur place *prévoyez les vôtres \n😉 🍽 Bar et restauration sur place
URL:https://posetarucheartistique.fr/event/loto-caritatif-2/
LOCATION:La Piscine d’en Face\, 14 rue Léo Lagrange\, Sainte-Geneviève-des-Bois\, 91700\, France
CATEGORIES:Loto
ATTACH;FMTTYPE=image/jpeg:https://posetarucheartistique.fr/wp-content/uploads/2026/01/COVER-EVENT-FB-ZPND-1920-×-1080-px-1.jpg
ORGANIZER;CN="Ze Prod Next Door":MAILTO:posetaruche@gmail.com
END:VEVENT
BEGIN:VEVENT
DTSTART;TZID=Europe/Paris:20260328T080000
DTEND;TZID=Europe/Paris:20260329T030000
DTSTAMP:20260419T203450
CREATED:20251229T190529Z
LAST-MODIFIED:20251229T190529Z
UID:29959-1774684800-1774753200@posetarucheartistique.fr
SUMMARY:Soirée dansante - Back to the 80's
DESCRIPTION:🎉 Soirée Dansante – Back to the 80’s ! 🎶 \nViens vibrer au son des tubes incontournables des années 80 lors d’une soirée exceptionnelle organisée par Ze Prod Next Door ! Plonge dans une ambiance rétro pleine de néons\, de bonne humeur et de souvenirs inoubliables lors de cette soirée dansante immersive. \n Venir à une soirée années 80\, c’est vivre un moment hors du temps\, joyeux et fédérateur. \nCes événements vous plongent dans une ambiance unique\, faite de musique culte\, de looks décalés et d’une énergie communicative.\nEt c’est l’occasion de (re)découvrir les tubes incontournables de cette décennie mythique\, de danser sur des rythmes électro-pop ou funk\, et de partager des souvenirs ou des découvertes avec toutes les générations. Avant\, les soirées étaient simples mais pleines de vie : pas d’écrans\, juste des gens qui dansaient\, riaient et profitaient ensemble. En participant à une soirée années 80\, vous retrouverez cette chaleur humaine\, cette insouciance festive et ce goût du collectif. Venez chanter\, danser\, vibrer… et surtout vous amuser dans une ambiance rétro et colorée où tout le monde est le bienvenu. Un véritable retour dans le passé… pour mieux savourer le présent ! \n  \n📅 Date : Samedi 28 mars 2026\n⏰ Horaire : De 20h à 3h00\n📍 Lieu : La Piscine d’en Face\, 14 rue Léo Lagrange\, 91700 Sainte-Geneviève-des-Bois (SGDB) \n🔊 Au programme : \n\nDancefloor XXL avec DJ Set 100% années 80 💃🕺\nZone Gaming 🎮 : retrogaming\, flippers\, arcades\, jeux géants\nBar & restauration sur place 🍹🍔\nAmbiance fun et festive garantie !\n\n💰 Tarifs : \n\n10€ / adulte\n8€ / enfant\n\n📩 Infos & Contact :\n📧 posetaruche@gmail.com\n📱 06 32 24 07 21\n📸 Instagram : @ze_prod_next_door\n📩 Facebook : @zpnd91 \n🕺 Viens danser et revivre les meilleurs hits des années 80 avec nous ! \nN’hésite pas à sortir ta meilleure tenue fluo\, ton legging à motifs ou ta veste à épaulettes pour une immersion totale dans l’ambiance 80’s ! \n⚠️ Veuillez noter que les places ne sont pas remboursables (échange possible). \nLien vers la piscine d’en face\nEn savoir plus sur nos soirées dansantes
URL:https://posetarucheartistique.fr/event/soiree-dansante-back-to-the-80s-2/
LOCATION:La Piscine d’en Face\, 14 rue Léo Lagrange\, Sainte-Geneviève-des-Bois\, 91700\, France
CATEGORIES:Soirées dansantes
ATTACH;FMTTYPE=image/png:https://posetarucheartistique.fr/wp-content/uploads/2025/12/COVER-EVENT-FB-SOIREE-DANSANTE-2.png
ORGANIZER;CN="Ze Prod Next Door":MAILTO:posetaruche@gmail.com
END:VEVENT
END:VCALENDAR